BEGIN:VCALENDAR
PRODID:-//Flo Inc.//FloSoft//EN
BEGIN:VEVENT
DTSTART;TZID='Perth':20190302T130000
DTEND;TZID='Perth':20190302T134500
LOCATION:15 Thelma Street, Mosman Park
DESCRIPTION:OFI/Open Home: 15 Thelma Street\, Mosman Park\nSaturday 01:00 PM-01:45 PM\n\n\nClick the link for full listing information: https://mackhall.com.au//for-sale/mosman-park/15-thelma-street/4203616
SUMMARY;LANGUAGE=en-in:Mack Hall Real Estate OFI/Open Home - 15 Thelma Street\, Mosman Park
PRIORITY:3
END:VEVENT
END:VCALENDAR
