BEGIN:VCALENDAR
PRODID:-//Flo Inc.//FloSoft//EN
BEGIN:VEVENT
DTSTART;TZID='Perth':20190302T160000
DTEND;TZID='Perth':20190302T163000
LOCATION:2/18 Macleod Road, Applecross
DESCRIPTION:OFI/Open Home: 2/18 Macleod Road\, Applecross\nSaturday 04:00 PM-04:30 PM\n\n\nClick the link for full listing information: https://mackhall.com.au//for-sale/applecross/218-macleod-road/4201191
SUMMARY;LANGUAGE=en-in:Mack Hall Real Estate OFI/Open Home - 2/18 Macleod Road\, Applecross
PRIORITY:3
END:VEVENT
END:VCALENDAR
