BEGIN:VCALENDAR
PRODID:-//Flo Inc.//FloSoft//EN
BEGIN:VEVENT
DTSTART;TZID='Perth':20190302T114500
DTEND;TZID='Perth':20190302T121500
LOCATION:145 Waratah Avenue, Dalkeith
DESCRIPTION:OFI/Open Home: 145 Waratah Avenue\, Dalkeith\nSaturday 11:45 AM-12:15 PM\n\n\nClick the link for full listing information: https://mackhall.com.au//for-sale/dalkeith/145-waratah-avenue/4200718
SUMMARY;LANGUAGE=en-in:Mack Hall Real Estate OFI/Open Home - 145 Waratah Avenue\, Dalkeith
PRIORITY:3
END:VEVENT
END:VCALENDAR
