BEGIN:VCALENDAR
PRODID:-//Flo Inc.//FloSoft//EN
BEGIN:VEVENT
DTSTART;TZID='Perth':20190302T134500
DTEND;TZID='Perth':20190302T143000
LOCATION:23 Westmeath Street, Mosman Park
DESCRIPTION:OFI/Open Home: 23 Westmeath Street\, Mosman Park\nSaturday 01:45 PM-02:30 PM\n\n\nClick the link for full listing information: https://mackhall.com.au//for-sale/mosman-park/23-westmeath-street/4198725
SUMMARY;LANGUAGE=en-in:Mack Hall Real Estate OFI/Open Home - 23 Westmeath Street\, Mosman Park
PRIORITY:3
END:VEVENT
END:VCALENDAR
