BEGIN:VCALENDAR
PRODID:-//Flo Inc.//FloSoft//EN
BEGIN:VEVENT
DTSTART;TZID='Perth':20190302T104500
DTEND;TZID='Perth':20190302T111500
LOCATION:304/17 Freeman Loop, North Fremantle
DESCRIPTION:OFI/Open Home: 304/17 Freeman Loop\, North Fremantle\nSaturday 10:45 AM-11:15 AM\n\n\nClick the link for full listing information: https://mackhall.com.au//for-sale/north-fremantle/30417-freeman-loop/4190465
SUMMARY;LANGUAGE=en-in:Mack Hall Real Estate OFI/Open Home - 304/17 Freeman Loop\, North Fremantle
PRIORITY:3
END:VEVENT
END:VCALENDAR
